BEGIN:VCALENDAR
VERSION:2.0
PRODID:icalendar-ruby
CALSCALE:GREGORIAN
METHOD:PUBLISH
BEGIN:VEVENT
DTSTAMP:20260422T064422Z
UID:150-3431269@fbcponoka.org
DTSTART:20260930T003000Z
DTEND:20260930T023000Z
CLASS:PUBLIC
CREATED:20260421T173605
DESCRIPTION:
LAST-MODIFIED:20260421T173605
LOCATION:
SUMMARY:Pilgrim's Progress Study
URL;VALUE=URI:https://www.fbcponoka.org/events/pilgrims-progress-study/2026
 -09-29
END:VEVENT
END:VCALENDAR
