BEGIN:VCALENDAR
VERSION:2.0
PRODID:icalendar-ruby
CALSCALE:GREGORIAN
METHOD:PUBLISH
BEGIN:VEVENT
DTSTAMP:20260422T010901Z
UID:150-3431266@fbcponoka.org
DTSTART:20260909T003000Z
DTEND:20260909T023000Z
CLASS:PUBLIC
CREATED:20260421T173605
DESCRIPTION:
LAST-MODIFIED:20260421T173605
LOCATION:
SUMMARY:Pilgrim's Progress Study
URL;VALUE=URI:https://www.fbcponoka.org/events/pilgrims-progress-study/2026
 -09-08
END:VEVENT
END:VCALENDAR
