BEGIN:VCALENDAR
VERSION:2.0
PRODID:icalendar-ruby
CALSCALE:GREGORIAN
METHOD:PUBLISH
BEGIN:VEVENT
DTSTAMP:20260421T232329Z
UID:150-3430217@fbcponoka.org
DTSTART:20260902T003000Z
DTEND:20260902T023000Z
CLASS:PUBLIC
CREATED:20260421T145735
DESCRIPTION:
LAST-MODIFIED:20260421T145735
LOCATION:
SUMMARY:Pilgrim's Progress Study
URL;VALUE=URI:https://www.fbcponoka.org/events/pilgrims-progress-study/2026
 -09-01
END:VEVENT
END:VCALENDAR
