BEGIN:VCALENDAR
VERSION:2.0
PRODID:icalendar-ruby
CALSCALE:GREGORIAN
METHOD:PUBLISH
BEGIN:VEVENT
DTSTAMP:20260421T160435Z
UID:150-3428121@fbcponoka.org
DTSTART:20260819T003000Z
DTEND:20260819T023000Z
CLASS:PUBLIC
CREATED:20260421T094147
DESCRIPTION:
LAST-MODIFIED:20260421T094147
LOCATION:
SUMMARY:Pilgrim's Progress Study
URL;VALUE=URI:https://www.fbcponoka.org/events/pilgrims-progress-study/2026
 -08-18
END:VEVENT
END:VCALENDAR
