BEGIN:VCALENDAR
VERSION:2.0
PRODID:icalendar-ruby
CALSCALE:GREGORIAN
METHOD:PUBLISH
BEGIN:VEVENT
DTSTAMP:20260421T141313Z
UID:150-3427073@fbcponoka.org
DTSTART:20260812T003000Z
DTEND:20260812T023000Z
CLASS:PUBLIC
CREATED:20260421T070516
DESCRIPTION:
LAST-MODIFIED:20260421T070516
LOCATION:
SUMMARY:Pilgrim's Progress Study
URL;VALUE=URI:https://www.fbcponoka.org/events/pilgrims-progress-study/2026
 -08-11
END:VEVENT
END:VCALENDAR
