BEGIN:VCALENDAR
VERSION:2.0
PRODID:icalendar-ruby
CALSCALE:GREGORIAN
METHOD:PUBLISH
BEGIN:VEVENT
DTSTAMP:20260421T040447Z
UID:150-3424973@fbcponoka.org
DTSTART:20260701T003000Z
DTEND:20260701T023000Z
CLASS:PUBLIC
CREATED:20260420T172329
DESCRIPTION:
LAST-MODIFIED:20260420T172329
LOCATION:
SUMMARY:Pilgrim's Progress Study
URL;VALUE=URI:https://www.fbcponoka.org/events/pilgrims-progress-study/2026
 -06-30
END:VEVENT
END:VCALENDAR
