BEGIN:VCALENDAR
VERSION:2.0
PRODID:icalendar-ruby
CALSCALE:GREGORIAN
METHOD:PUBLISH
BEGIN:VEVENT
DTSTAMP:20260420T224235Z
UID:150-3423924@fbcponoka.org
DTSTART:20260610T003000Z
DTEND:20260610T023000Z
CLASS:PUBLIC
CREATED:20260420T144819
DESCRIPTION:
LAST-MODIFIED:20260420T144819
LOCATION:
SUMMARY:Pilgrim's Progress Study
URL;VALUE=URI:https://www.fbcponoka.org/events/pilgrims-progress-study/2026
 -06-09
END:VEVENT
END:VCALENDAR
