BEGIN:VCALENDAR
VERSION:2.0
PRODID:icalendar-ruby
CALSCALE:GREGORIAN
METHOD:PUBLISH
BEGIN:VEVENT
DTSTAMP:20260420T203743Z
UID:150-3422877@fbcponoka.org
DTSTART:20260603T003000Z
DTEND:20260603T023000Z
CLASS:PUBLIC
CREATED:20260420T121227
DESCRIPTION:
LAST-MODIFIED:20260420T121227
LOCATION:
SUMMARY:Pilgrim's Progress Study
URL;VALUE=URI:https://www.fbcponoka.org/events/pilgrims-progress-study/2026
 -06-02
END:VEVENT
END:VCALENDAR
