BEGIN:VCALENDAR
VERSION:2.0
PRODID:icalendar-ruby
CALSCALE:GREGORIAN
METHOD:PUBLISH
BEGIN:VEVENT
DTSTAMP:20260420T164328Z
UID:150-3421829@fbcponoka.org
DTSTART:20260520T003000Z
DTEND:20260520T023000Z
CLASS:PUBLIC
CREATED:20260420T093813
DESCRIPTION:
LAST-MODIFIED:20260420T093813
LOCATION:
SUMMARY:Pilgrim's Progress Study
URL;VALUE=URI:https://www.fbcponoka.org/events/pilgrims-progress-study/2026
 -05-19
END:VEVENT
END:VCALENDAR
