BEGIN:VCALENDAR
VERSION:2.0
PRODID:icalendar-ruby
CALSCALE:GREGORIAN
METHOD:PUBLISH
BEGIN:VEVENT
DTSTAMP:20260420T150102Z
UID:150-3420782@fbcponoka.org
DTSTART:20260513T003000Z
DTEND:20260513T023000Z
CLASS:PUBLIC
CREATED:20260420T070417
DESCRIPTION:
LAST-MODIFIED:20260420T070417
LOCATION:
SUMMARY:Pilgrim's Progress Study
URL;VALUE=URI:https://www.fbcponoka.org/events/pilgrims-progress-study/2026
 -05-12
END:VEVENT
END:VCALENDAR
