BEGIN:VCALENDAR
VERSION:2.0
PRODID:icalendar-ruby
CALSCALE:GREGORIAN
METHOD:PUBLISH
BEGIN:VEVENT
DTSTAMP:20260420T113004Z
UID:150-3419734@fbcponoka.org
DTSTART:20260429T003000Z
DTEND:20260429T023000Z
CLASS:PUBLIC
CREATED:20260420T042849
DESCRIPTION:
LAST-MODIFIED:20260420T042849
LOCATION:
SUMMARY:Pilgrim's Progress Study
URL;VALUE=URI:https://www.fbcponoka.org/events/pilgrims-progress-study/2026
 -04-28
END:VEVENT
END:VCALENDAR
