BEGIN:VCALENDAR
VERSION:2.0
PRODID:icalendar-ruby
CALSCALE:GREGORIAN
METHOD:PUBLISH
BEGIN:VEVENT
DTSTAMP:20260420T092546Z
UID:150-3418687@fbcponoka.org
DTSTART:20260422T003000Z
DTEND:20260422T023000Z
CLASS:PUBLIC
CREATED:20260419T230703
DESCRIPTION:
LAST-MODIFIED:20260419T230703
LOCATION:
SUMMARY:Pilgrim's Progress Study
URL;VALUE=URI:https://www.fbcponoka.org/events/pilgrims-progress-study/2026
 -04-21
END:VEVENT
END:VCALENDAR
