BEGIN:VCALENDAR
VERSION:2.0
PRODID:icalendar-ruby
CALSCALE:GREGORIAN
METHOD:PUBLISH
BEGIN:VEVENT
DTSTAMP:20260423T110506Z
UID:135-3438463@fbcponoka.org
DTSTART:20261029T010000Z
DTEND:20261029T023000Z
CLASS:PUBLIC
CREATED:20260423T043227
DESCRIPTION:Just Read the Word
LAST-MODIFIED:20260423T043227
LOCATION:Church Library
SUMMARY:Just Read the Word
URL;VALUE=URI:https://www.fbcponoka.org/events/just-read-the-word/2026-10-2
 8
END:VEVENT
END:VCALENDAR
