BEGIN:VCALENDAR
VERSION:2.0
PRODID:icalendar-ruby
CALSCALE:GREGORIAN
METHOD:PUBLISH
BEGIN:VEVENT
DTSTAMP:20260423T071359Z
UID:135-3437412@fbcponoka.org
DTSTART:20261015T010000Z
DTEND:20261015T023000Z
CLASS:PUBLIC
CREATED:20260422T190327
DESCRIPTION:Just Read the Word
LAST-MODIFIED:20260422T190327
LOCATION:Church Library
SUMMARY:Just Read the Word
URL;VALUE=URI:https://www.fbcponoka.org/events/just-read-the-word/2026-10-1
 4
END:VEVENT
END:VCALENDAR
