BEGIN:VCALENDAR
VERSION:2.0
PRODID:icalendar-ruby
CALSCALE:GREGORIAN
METHOD:PUBLISH
BEGIN:VEVENT
DTSTAMP:20260424T003445Z
UID:143-3404113@fbcponoka.org
DTSTART:20261030T010000Z
DTEND:20261030T020000Z
CLASS:PUBLIC
CREATED:20260417T132448
DESCRIPTION:
LAST-MODIFIED:20260417T132448
LOCATION:Old Sanctuary
SUMMARY:Adults Drum Mayhem
URL;VALUE=URI:https://www.fbcponoka.org/events/adults-drum-mayhem/2026-10-2
 9
END:VEVENT
END:VCALENDAR
