BEGIN:VCALENDAR
VERSION:2.0
PRODID:icalendar-ruby
CALSCALE:GREGORIAN
METHOD:PUBLISH
BEGIN:VEVENT
DTSTAMP:20260423T211521Z
UID:143-3404111@fbcponoka.org
DTSTART:20261016T010000Z
DTEND:20261016T020000Z
CLASS:PUBLIC
CREATED:20260417T132448
DESCRIPTION:
LAST-MODIFIED:20260417T132448
LOCATION:Old Sanctuary
SUMMARY:Adults Drum Mayhem
URL;VALUE=URI:https://www.fbcponoka.org/events/adults-drum-mayhem/2026-10-1
 5
END:VEVENT
END:VCALENDAR
