BEGIN:VCALENDAR
VERSION:2.0
PRODID:icalendar-ruby
CALSCALE:GREGORIAN
METHOD:PUBLISH
BEGIN:VEVENT
DTSTAMP:20260423T175757Z
UID:143-3404109@fbcponoka.org
DTSTART:20261002T010000Z
DTEND:20261002T020000Z
CLASS:PUBLIC
CREATED:20260417T132448
DESCRIPTION:
LAST-MODIFIED:20260417T132448
LOCATION:Old Sanctuary
SUMMARY:Adults Drum Mayhem
URL;VALUE=URI:https://www.fbcponoka.org/events/adults-drum-mayhem/2026-10-0
 1
END:VEVENT
END:VCALENDAR
