BEGIN:VCALENDAR
VERSION:2.0
PRODID:icalendar-ruby
CALSCALE:GREGORIAN
METHOD:PUBLISH
BEGIN:VEVENT
DTSTAMP:20260423T162643Z
UID:143-3404108@fbcponoka.org
DTSTART:20260925T010000Z
DTEND:20260925T020000Z
CLASS:PUBLIC
CREATED:20260417T132448
DESCRIPTION:
LAST-MODIFIED:20260417T132448
LOCATION:Old Sanctuary
SUMMARY:Adults Drum Mayhem
URL;VALUE=URI:https://www.fbcponoka.org/events/adults-drum-mayhem/2026-09-2
 4
END:VEVENT
END:VCALENDAR
